BEGIN:VCALENDAR
CALSCALE:GREGORIAN
PRODID: SPIP https://www.spip.net
VERSION:2.0

X-WR-CALNAME;VALUE=TEXT:Berre l’Étang -- Agenda
X-WR-RELCALID:https://www.berreletang.fr



BEGIN:VEVENT
SUMMARY:Du côté des boules - Souvenir Mongaillard  
UID:article1368 @ https://www.berreletang.fr
DTSTAMP:20170808T081615Z
DTSTART;VALUE=DATE:20260517
DTEND;VALUE=DATE:20260518
CREATED:20170808T081615Z
LAST-MODIFIED:20260421T124332Z
LOCATION:Boulodrome parc H. Fabre
CATEGORIES:Agenda Berre l'Étang
URL:https://www.berreletang.fr/du-cote-des-boules
STATUS:CONFIRMED
END:VEVENT
END:VCALENDAR