BEGIN:VCALENDAR
CALSCALE:GREGORIAN
PRODID: SPIP https://www.spip.net
VERSION:2.0

X-WR-CALNAME;VALUE=TEXT:Berre l’Étang -- Agenda
X-WR-RELCALID:https://www.berreletang.fr



BEGIN:VEVENT
SUMMARY:Le mois de l'ELJ - Ateliers sensibilisation 
UID:article4082 @ https://www.berreletang.fr
DTSTAMP:20251217T110331Z
DTSTART;VALUE=DATE:20260523
DTEND;VALUE=DATE:20260524
CREATED:20251217T110331Z
LAST-MODIFIED:20260423T081325Z
LOCATION:M. Quartier/ELJ
CATEGORIES:Agenda Berre l'Étang
URL:https://www.berreletang.fr/le-mois-de-l-elj
STATUS:CONFIRMED
END:VEVENT
END:VCALENDAR