BEGIN:VCALENDAR
CALSCALE:GREGORIAN
PRODID: SPIP https://www.spip.net
VERSION:2.0

X-WR-CALNAME;VALUE=TEXT:Berre l’Étang -- Agenda
X-WR-RELCALID:https://www.berreletang.fr



BEGIN:VEVENT
SUMMARY:Permanences Administratives - Impôts 
UID:article3382 @ https://www.berreletang.fr
DTSTAMP:20250414T133055Z
DTSTART:20260519T113000Z
DTEND:20260519T113000Z
CREATED:20250414T133055Z
LAST-MODIFIED:20260401T115232Z
LOCATION:Espace France Services
CATEGORIES:Agenda Berre l'Étang
URL:https://www.berreletang.fr/permanences-administratives-franceservices
STATUS:CONFIRMED
END:VEVENT
END:VCALENDAR