BEGIN:VCALENDAR
CALSCALE:GREGORIAN
PRODID: SPIP https://www.spip.net
VERSION:2.0

X-WR-CALNAME;VALUE=TEXT:Berre l’Étang -- Agenda
X-WR-RELCALID:https://www.berreletang.fr



BEGIN:VEVENT
SUMMARY:1er grand chœur de Berre - Concert 
UID:article4145 @ https://www.berreletang.fr
DTSTAMP:20260422T114504Z
DTSTART:20260530T181500Z
DTEND:20260530T181500Z
CREATED:20260422T114504Z
LAST-MODIFIED:20260422T114701Z
CATEGORIES:Agenda Berre l'Étang
URL:https://www.berreletang.fr/1er-grand-choeur-de-berre
STATUS:CONFIRMED
END:VEVENT
END:VCALENDAR