BEGIN:VCALENDAR
CALSCALE:GREGORIAN
PRODID: SPIP https://www.spip.net
VERSION:2.0

X-WR-CALNAME;VALUE=TEXT:Berre l’Étang -- Agenda
X-WR-RELCALID:https://www.berreletang.fr



BEGIN:VEVENT
SUMMARY:Basket  - Les matchs du mois
UID:article3419 @ https://www.berreletang.fr
DTSTAMP:20230510T143757Z
DTSTART;VALUE=DATE:20260510
DTEND;VALUE=DATE:20260511
CREATED:20230510T143757Z
LAST-MODIFIED:20260212T084441Z
LOCATION:Cosec F. léger
CATEGORIES:Agenda Berre l'Étang
URL:https://www.berreletang.fr/basket
STATUS:CONFIRMED
END:VEVENT
END:VCALENDAR