BEGIN:VCALENDAR
CALSCALE:GREGORIAN
PRODID: SPIP https://www.spip.net
VERSION:2.0

X-WR-CALNAME;VALUE=TEXT:Berre l’Étang -- Agenda
X-WR-RELCALID:https://www.berreletang.fr



BEGIN:VEVENT
SUMMARY:Sport en famille - Fit poussette 
UID:article3827 @ https://www.berreletang.fr
DTSTAMP:20241014T142423Z
DTSTART:20260428T080000Z
DTEND:20260428T090000Z
CREATED:20241014T142423Z
LAST-MODIFIED:20260306T105853Z
LOCATION:Gymnase R. Martin
CATEGORIES:Agenda Berre l'Étang
URL:https://www.berreletang.fr/sport-en-famille
STATUS:CONFIRMED
END:VEVENT
END:VCALENDAR