BEGIN:VCALENDAR
CALSCALE:GREGORIAN
PRODID: SPIP https://www.spip.net
VERSION:2.0

X-WR-CALNAME;VALUE=TEXT:Berre l’Étang -- Agenda
X-WR-RELCALID:https://www.berreletang.fr



BEGIN:VEVENT
SUMMARY:La Bénédiction des chevaux - Repas et spectacle 
UID:article726 @ https://www.berreletang.fr
DTSTAMP:20160414T154722Z
DTSTART:20260501T083000Z
DTEND:20260501T083000Z
CREATED:20160414T154722Z
LAST-MODIFIED:20260331T144330Z
LOCATION:Parc Henri Fabre
CATEGORIES:Agenda Berre l'Étang
URL:https://www.berreletang.fr/la-benediction-des-chevaux-726
STATUS:CONFIRMED
END:VEVENT
END:VCALENDAR