BEGIN:VCALENDAR
CALSCALE:GREGORIAN
PRODID: SPIP https://www.spip.net
VERSION:2.0

X-WR-CALNAME;VALUE=TEXT:Berre l’Étang -- Agenda
X-WR-RELCALID:https://www.berreletang.fr



BEGIN:VEVENT
SUMMARY:Atelier Parents-enfants - Mon jardin au printemps 
UID:article2513 @ https://www.berreletang.fr
DTSTAMP:20200812T121037Z
DTSTART:20260520T120000Z
DTEND:20260520T120000Z
CREATED:20200812T121037Z
LAST-MODIFIED:20260115T124108Z
LOCATION:Médiathèque
CATEGORIES:Agenda Berre l'Étang
URL:https://www.berreletang.fr/ateliers-parentsenfants
STATUS:CONFIRMED
END:VEVENT
END:VCALENDAR